BEGIN:VCALENDAR
VERSION:2.0
PRODID:-//Galerie Landleben - ECPv6.0.10//NONSGML v1.0//EN
CALSCALE:GREGORIAN
METHOD:PUBLISH
X-ORIGINAL-URL:https://galerie-landleben.de
X-WR-CALDESC:Veranstaltungen für Galerie Landleben
REFRESH-INTERVAL;VALUE=DURATION:PT1H
X-Robots-Tag:noindex
X-PUBLISHED-TTL:PT1H
BEGIN:VTIMEZONE
TZID:Europe/Berlin
BEGIN:DAYLIGHT
TZOFFSETFROM:+0100
TZOFFSETTO:+0200
TZNAME:CEST
DTSTART:20230326T010000
END:DAYLIGHT
BEGIN:STANDARD
TZOFFSETFROM:+0200
TZOFFSETTO:+0100
TZNAME:CET
DTSTART:20231029T010000
END:STANDARD
END:VTIMEZONE
BEGIN:VEVENT
DTSTART;TZID=Europe/Berlin:20230324T100000
DTEND;TZID=Europe/Berlin:20230326T200000
DTSTAMP:20260423T172204
CREATED:20230317T162135Z
LAST-MODIFIED:20230317T162135Z
UID:638-1679652000-1679860800@galerie-landleben.de
SUMMARY:Frühlingsträume Schloss Harkotten
DESCRIPTION:
URL:https://galerie-landleben.de/event/fruehlingstraeume-schloss-harkotten
LOCATION:Schloss Harkotten\, Schloss Harkottten an der B475\, Sassenberg-Füchtorf\, 48336
ORGANIZER;CN="Beekenhof%20Veranstaltungen":MAILTO:sivisit@hicon.de
END:VEVENT
END:VCALENDAR