BEGIN:VCALENDAR
VERSION:2.0
PRODID:-//Galerie Landleben - ECPv6.0.10//NONSGML v1.0//EN
CALSCALE:GREGORIAN
METHOD:PUBLISH
X-WR-CALNAME:Galerie Landleben
X-ORIGINAL-URL:https://galerie-landleben.de
X-WR-CALDESC:Veranstaltungen für Galerie Landleben
REFRESH-INTERVAL;VALUE=DURATION:PT1H
X-Robots-Tag:noindex
X-PUBLISHED-TTL:PT1H
BEGIN:VTIMEZONE
TZID:Europe/Berlin
BEGIN:DAYLIGHT
TZOFFSETFROM:+0100
TZOFFSETTO:+0200
TZNAME:CEST
DTSTART:20230326T010000
END:DAYLIGHT
BEGIN:STANDARD
TZOFFSETFROM:+0200
TZOFFSETTO:+0100
TZNAME:CET
DTSTART:20231029T010000
END:STANDARD
END:VTIMEZONE
BEGIN:VEVENT
DTSTART;TZID=Europe/Berlin:20230422T100000
DTEND;TZID=Europe/Berlin:20230423T180000
DTSTAMP:20260423T154000
CREATED:20230315T203227Z
LAST-MODIFIED:20230317T160341Z
UID:636-1682157600-1682272800@galerie-landleben.de
SUMMARY:Pflanzenmarkt Kiekeberg
DESCRIPTION:Pflanzenmarkt am Freilichtmuseum am Kiekeberg / Kunsthandwerk und Gartenwerkzeug
URL:https://galerie-landleben.de/event/pflanzenmarkt-kiekeberg
LOCATION:Freilichtmuseum Kiekeberg\, Rosengarten\, 21224
END:VEVENT
END:VCALENDAR